BEGIN:VCALENDAR
VERSION:2.0
PRODID:-//The Humanist Society - ECPv6.15.20//NONSGML v1.0//EN
CALSCALE:GREGORIAN
METHOD:PUBLISH
X-WR-CALNAME:The Humanist Society
X-ORIGINAL-URL:https://thehumanistsociety.org
X-WR-CALDESC:Events for The Humanist Society
REFRESH-INTERVAL;VALUE=DURATION:PT1H
X-Robots-Tag:noindex
X-PUBLISHED-TTL:PT1H
BEGIN:VTIMEZONE
TZID:America/New_York
BEGIN:DAYLIGHT
TZOFFSETFROM:-0500
TZOFFSETTO:-0400
TZNAME:EDT
DTSTART:20230312T070000
END:DAYLIGHT
BEGIN:STANDARD
TZOFFSETFROM:-0400
TZOFFSETTO:-0500
TZNAME:EST
DTSTART:20231105T060000
END:STANDARD
BEGIN:DAYLIGHT
TZOFFSETFROM:-0500
TZOFFSETTO:-0400
TZNAME:EDT
DTSTART:20240310T070000
END:DAYLIGHT
BEGIN:STANDARD
TZOFFSETFROM:-0400
TZOFFSETTO:-0500
TZNAME:EST
DTSTART:20241103T060000
END:STANDARD
BEGIN:DAYLIGHT
TZOFFSETFROM:-0500
TZOFFSETTO:-0400
TZNAME:EDT
DTSTART:20250309T070000
END:DAYLIGHT
BEGIN:STANDARD
TZOFFSETFROM:-0400
TZOFFSETTO:-0500
TZNAME:EST
DTSTART:20251102T060000
END:STANDARD
END:VTIMEZONE
BEGIN:VEVENT
DTSTART;TZID=America/New_York:20240915T151000
DTEND;TZID=America/New_York:20240915T161000
DTSTAMP:20260421T062759
CREATED:20240903T010634Z
LAST-MODIFIED:20240903T010634Z
UID:4528-1726413000-1726416600@thehumanistsociety.org
SUMMARY:Humanist Professionals: Shaping the Future with Compassion\, Reason\, and Human Connection
DESCRIPTION:For the past 85 years\, The Humanist Society has endorsed humanist professionals\, shaping a future rooted in empathy\, reason\, and human connection. Join Sarah Ray\, the President of The Humanist Society\, as she leads a lively and insightful discussion with a distinguished panel of endorsed Humanist Chaplains and Celebrants. Discover the profound impact these professionals have on our communities\, explore their vital roles in today’s world\, and gain insights into the future of humanist leadership. They will answer pressing questions such as: What is a Humanist Professional? How can Humanist Professionals impact the world outside of our movement? Don’t miss this opportunity to be inspired by stories of compassion\, innovation\, and dedication from those at the forefront of humanist service.
URL:https://thehumanistsociety.org/event/humanist-professionals-shaping-the-future-with-compassion-reason-and-human-connection/
CATEGORIES:General Interest,General Interest,Private,Public
ATTACH;FMTTYPE=image/png:https://thehumanistsociety.org/wp-content/uploads/2024/09/THS-Panel-AHACON24.png
END:VEVENT
END:VCALENDAR